BEGIN:VCALENDAR
VERSION:2.0
PRODID:-//Karamoor Estate - ECPv6.15.20//NONSGML v1.0//EN
CALSCALE:GREGORIAN
METHOD:PUBLISH
X-ORIGINAL-URL:https://karamoorwines.com
X-WR-CALDESC:Events for Karamoor Estate
REFRESH-INTERVAL;VALUE=DURATION:PT1H
X-Robots-Tag:noindex
X-PUBLISHED-TTL:PT1H
BEGIN:VTIMEZONE
TZID:America/New_York
BEGIN:DAYLIGHT
TZOFFSETFROM:-0500
TZOFFSETTO:-0400
TZNAME:EDT
DTSTART:20250309T070000
END:DAYLIGHT
BEGIN:STANDARD
TZOFFSETFROM:-0400
TZOFFSETTO:-0500
TZNAME:EST
DTSTART:20251102T060000
END:STANDARD
BEGIN:DAYLIGHT
TZOFFSETFROM:-0500
TZOFFSETTO:-0400
TZNAME:EDT
DTSTART:20260308T070000
END:DAYLIGHT
BEGIN:STANDARD
TZOFFSETFROM:-0400
TZOFFSETTO:-0500
TZNAME:EST
DTSTART:20261101T060000
END:STANDARD
BEGIN:DAYLIGHT
TZOFFSETFROM:-0500
TZOFFSETTO:-0400
TZNAME:EDT
DTSTART:20270314T070000
END:DAYLIGHT
BEGIN:STANDARD
TZOFFSETFROM:-0400
TZOFFSETTO:-0500
TZNAME:EST
DTSTART:20271107T060000
END:STANDARD
END:VTIMEZONE
BEGIN:VEVENT
DTSTART;TZID=America/New_York:20260911T160000
DTEND;TZID=America/New_York:20260911T190000
DTSTAMP:20260419T154201
CREATED:20260410T173558Z
LAST-MODIFIED:20260410T173558Z
UID:1941-1789142400-1789153200@karamoorwines.com
SUMMARY:Live Music @ The Terrace
DESCRIPTION:Music Featuring: Vik Raolji\nTerrace Hours: 2-8pm
URL:https://karamoorwines.com/event/live-music-the-terrace-52/
LOCATION:The Terrace at Karamoor Estate Vineyard & Winery\, 6118 Butler Pike\, Blue Bell\, PA 19422\, PA\, United States
ATTACH;FMTTYPE=image/jpeg:https://karamoorwines.com/wp-content/uploads/2024/09/DSC8085-Sam.jpg
END:VEVENT
BEGIN:VEVENT
DTSTART;TZID=America/New_York:20260918T160000
DTEND;TZID=America/New_York:20260918T190000
DTSTAMP:20260419T154201
CREATED:20260410T173633Z
LAST-MODIFIED:20260410T173633Z
UID:1943-1789747200-1789758000@karamoorwines.com
SUMMARY:Live Music @ The Terrace
DESCRIPTION:Music Featuring: Casey Clark\nTerrace Hours: 2-8pm
URL:https://karamoorwines.com/event/live-music-the-terrace-53/
LOCATION:The Terrace at Karamoor Estate Vineyard & Winery\, 6118 Butler Pike\, Blue Bell\, PA 19422\, PA\, United States
ATTACH;FMTTYPE=image/jpeg:https://karamoorwines.com/wp-content/uploads/2024/09/DSC8085-Sam.jpg
END:VEVENT
BEGIN:VEVENT
DTSTART;TZID=America/New_York:20261002T160000
DTEND;TZID=America/New_York:20261002T190000
DTSTAMP:20260419T154201
CREATED:20260410T173716Z
LAST-MODIFIED:20260410T173716Z
UID:1945-1790956800-1790967600@karamoorwines.com
SUMMARY:Live Music @ The Terrace
DESCRIPTION:Music Featuring: Justin Fava\nTerrace Hours: 2-8pm
URL:https://karamoorwines.com/event/live-music-the-terrace-54/
LOCATION:The Terrace at Karamoor Estate Vineyard & Winery\, 6118 Butler Pike\, Blue Bell\, PA 19422\, PA\, United States
ATTACH;FMTTYPE=image/jpeg:https://karamoorwines.com/wp-content/uploads/2024/09/DSC8085-Sam.jpg
END:VEVENT
BEGIN:VEVENT
DTSTART;TZID=America/New_York:20261009T160000
DTEND;TZID=America/New_York:20261009T190000
DTSTAMP:20260419T154201
CREATED:20260410T173745Z
LAST-MODIFIED:20260410T173745Z
UID:1947-1791561600-1791572400@karamoorwines.com
SUMMARY:Live Music @ The Terrace
DESCRIPTION:Music Featuring: Wes Johnson\nTerrace Hours: 2-8pm
URL:https://karamoorwines.com/event/live-music-the-terrace-55/
LOCATION:The Terrace at Karamoor Estate Vineyard & Winery\, 6118 Butler Pike\, Blue Bell\, PA 19422\, PA\, United States
ATTACH;FMTTYPE=image/jpeg:https://karamoorwines.com/wp-content/uploads/2024/09/DSC8085-Sam.jpg
END:VEVENT
BEGIN:VEVENT
DTSTART;TZID=America/New_York:20261016T160000
DTEND;TZID=America/New_York:20261016T190000
DTSTAMP:20260419T154201
CREATED:20260410T173825Z
LAST-MODIFIED:20260410T173825Z
UID:1949-1792166400-1792177200@karamoorwines.com
SUMMARY:Live Music @ The Terrace
DESCRIPTION:Music Featuring: Just Jessica\nTerrace Hours: 2-8pm
URL:https://karamoorwines.com/event/live-music-the-terrace-56/
LOCATION:The Terrace at Karamoor Estate Vineyard & Winery\, 6118 Butler Pike\, Blue Bell\, PA 19422\, PA\, United States
ATTACH;FMTTYPE=image/jpeg:https://karamoorwines.com/wp-content/uploads/2024/09/DSC8085-Sam.jpg
END:VEVENT
BEGIN:VEVENT
DTSTART;TZID=America/New_York:20261023T160000
DTEND;TZID=America/New_York:20261023T190000
DTSTAMP:20260419T154201
CREATED:20260410T173940Z
LAST-MODIFIED:20260410T173940Z
UID:1951-1792771200-1792782000@karamoorwines.com
SUMMARY:Live Music @ The Terrace
DESCRIPTION:Music Featuring: Casey Clark\nTerrace Hours: 2-8pm
URL:https://karamoorwines.com/event/live-music-the-terrace-57/
LOCATION:The Terrace at Karamoor Estate Vineyard & Winery\, 6118 Butler Pike\, Blue Bell\, PA 19422\, PA\, United States
ATTACH;FMTTYPE=image/jpeg:https://karamoorwines.com/wp-content/uploads/2024/09/DSC8085-Sam.jpg
END:VEVENT
BEGIN:VEVENT
DTSTART;TZID=America/New_York:20261030T160000
DTEND;TZID=America/New_York:20261030T190000
DTSTAMP:20260419T154201
CREATED:20260410T174009Z
LAST-MODIFIED:20260410T174009Z
UID:1953-1793376000-1793386800@karamoorwines.com
SUMMARY:Live Music @ The Terrace
DESCRIPTION:Music Featuring: Justin Fava\nTerrace Hours: 2-8pm
URL:https://karamoorwines.com/event/live-music-the-terrace-58/
LOCATION:The Terrace at Karamoor Estate Vineyard & Winery\, 6118 Butler Pike\, Blue Bell\, PA 19422\, PA\, United States
ATTACH;FMTTYPE=image/jpeg:https://karamoorwines.com/wp-content/uploads/2024/09/DSC8085-Sam.jpg
END:VEVENT
END:VCALENDAR