BEGIN:VCALENDAR
VERSION:2.0
PRODID:-//Karamoor Estate - ECPv6.15.20//NONSGML v1.0//EN
CALSCALE:GREGORIAN
METHOD:PUBLISH
X-WR-CALNAME:Karamoor Estate
X-ORIGINAL-URL:https://karamoorwines.com
X-WR-CALDESC:Events for Karamoor Estate
REFRESH-INTERVAL;VALUE=DURATION:PT1H
X-Robots-Tag:noindex
X-PUBLISHED-TTL:PT1H
BEGIN:VTIMEZONE
TZID:America/New_York
BEGIN:DAYLIGHT
TZOFFSETFROM:-0500
TZOFFSETTO:-0400
TZNAME:EDT
DTSTART:20250309T070000
END:DAYLIGHT
BEGIN:STANDARD
TZOFFSETFROM:-0400
TZOFFSETTO:-0500
TZNAME:EST
DTSTART:20251102T060000
END:STANDARD
BEGIN:DAYLIGHT
TZOFFSETFROM:-0500
TZOFFSETTO:-0400
TZNAME:EDT
DTSTART:20260308T070000
END:DAYLIGHT
BEGIN:STANDARD
TZOFFSETFROM:-0400
TZOFFSETTO:-0500
TZNAME:EST
DTSTART:20261101T060000
END:STANDARD
BEGIN:DAYLIGHT
TZOFFSETFROM:-0500
TZOFFSETTO:-0400
TZNAME:EDT
DTSTART:20270314T070000
END:DAYLIGHT
BEGIN:STANDARD
TZOFFSETFROM:-0400
TZOFFSETTO:-0500
TZNAME:EST
DTSTART:20271107T060000
END:STANDARD
END:VTIMEZONE
BEGIN:VEVENT
DTSTART;TZID=America/New_York:20260501T160000
DTEND;TZID=America/New_York:20260501T190000
DTSTAMP:20260423T125655
CREATED:20260410T172018Z
LAST-MODIFIED:20260410T172018Z
UID:1903-1777651200-1777662000@karamoorwines.com
SUMMARY:Live Music @ The Terrace
DESCRIPTION:Music Featuring: Justin Fava\nTerrace Hours: 2-8pm
URL:https://karamoorwines.com/event/live-music-the-terrace-33/
LOCATION:The Terrace at Karamoor Estate Vineyard & Winery\, 6118 Butler Pike\, Blue Bell\, PA 19422\, PA\, United States
ATTACH;FMTTYPE=image/jpeg:https://karamoorwines.com/wp-content/uploads/2024/09/DSC8085-Sam.jpg
END:VEVENT
BEGIN:VEVENT
DTSTART;TZID=America/New_York:20260508T160000
DTEND;TZID=America/New_York:20260508T190000
DTSTAMP:20260423T125655
CREATED:20260410T172219Z
LAST-MODIFIED:20260410T172219Z
UID:1905-1778256000-1778266800@karamoorwines.com
SUMMARY:Live Music @ The Terrace
DESCRIPTION:Music Featuring: Samuel Mousley\nTerrace Hours: 2-8pm
URL:https://karamoorwines.com/event/live-music-the-terrace-34/
LOCATION:The Terrace at Karamoor Estate Vineyard & Winery\, 6118 Butler Pike\, Blue Bell\, PA 19422\, PA\, United States
ATTACH;FMTTYPE=image/jpeg:https://karamoorwines.com/wp-content/uploads/2024/09/DSC8085-Sam.jpg
END:VEVENT
BEGIN:VEVENT
DTSTART;TZID=America/New_York:20260515T160000
DTEND;TZID=America/New_York:20260515T190000
DTSTAMP:20260423T125655
CREATED:20260410T172258Z
LAST-MODIFIED:20260410T172258Z
UID:1907-1778860800-1778871600@karamoorwines.com
SUMMARY:Live Music @ The Terrace
DESCRIPTION:Music Featuring: Scott Silver\nTerrace Hours: 2-8pm
URL:https://karamoorwines.com/event/live-music-the-terrace-35/
LOCATION:The Terrace at Karamoor Estate Vineyard & Winery\, 6118 Butler Pike\, Blue Bell\, PA 19422\, PA\, United States
ATTACH;FMTTYPE=image/jpeg:https://karamoorwines.com/wp-content/uploads/2024/09/DSC8085-Sam.jpg
END:VEVENT
BEGIN:VEVENT
DTSTART;TZID=America/New_York:20260520T173000
DTEND;TZID=America/New_York:20260520T210000
DTSTAMP:20260423T125655
CREATED:20260421T211446Z
LAST-MODIFIED:20260421T211446Z
UID:1957-1779298200-1779310800@karamoorwines.com
SUMMARY:Vines\, Wines & Cheese
DESCRIPTION:
URL:https://karamoorwines.com/event/vines-wines-cheese/
LOCATION:The Terrace at Karamoor Estate Vineyard & Winery\, 6118 Butler Pike\, Blue Bell\, PA 19422\, PA\, United States
ATTACH;FMTTYPE=image/jpeg:https://karamoorwines.com/wp-content/uploads/2026/04/vines-wines-and-cheese.jpg
END:VEVENT
BEGIN:VEVENT
DTSTART;TZID=America/New_York:20260522T160000
DTEND;TZID=America/New_York:20260522T190000
DTSTAMP:20260423T125655
CREATED:20260410T172337Z
LAST-MODIFIED:20260410T172337Z
UID:1909-1779465600-1779476400@karamoorwines.com
SUMMARY:Live Music @ The Terrace
DESCRIPTION:Music Featuring: David Wilson\nTerrace Hours: 2-8pm
URL:https://karamoorwines.com/event/live-music-the-terrace-36/
LOCATION:The Terrace at Karamoor Estate Vineyard & Winery\, 6118 Butler Pike\, Blue Bell\, PA 19422\, PA\, United States
ATTACH;FMTTYPE=image/jpeg:https://karamoorwines.com/wp-content/uploads/2024/09/DSC8085-Sam.jpg
END:VEVENT
BEGIN:VEVENT
DTSTART;TZID=America/New_York:20260529T160000
DTEND;TZID=America/New_York:20260529T190000
DTSTAMP:20260423T125655
CREATED:20260410T172431Z
LAST-MODIFIED:20260410T172431Z
UID:1911-1780070400-1780081200@karamoorwines.com
SUMMARY:Live Music @ The Terrace
DESCRIPTION:Music Featuring: Casey Clark\nTerrace Hours: 2-8pm
URL:https://karamoorwines.com/event/live-music-the-terrace-37/
LOCATION:The Terrace at Karamoor Estate Vineyard & Winery\, 6118 Butler Pike\, Blue Bell\, PA 19422\, PA\, United States
ATTACH;FMTTYPE=image/jpeg:https://karamoorwines.com/wp-content/uploads/2024/09/DSC8085-Sam.jpg
END:VEVENT
END:VCALENDAR